BEGIN:VCALENDAR
VERSION:2.0
PRODID:icalendar-ruby
CALSCALE:GREGORIAN
METHOD:PUBLISH
BEGIN:VEVENT
DTSTAMP:20260422T094854Z
UID:5-402545@arenaof.tithelysetup8.com
DTSTART:20260809T173000Z
DTEND:20260809T183000Z
CLASS:PUBLIC
CREATED:20260421T172800
DESCRIPTION:Sunday Worship
LAST-MODIFIED:20260421T172800
LOCATION:
SUMMARY:Sunday Worship
URL;VALUE=URI:https://arenaof.tithelysetup8.com/events/sunday-worship/2026-
 08-09
END:VEVENT
END:VCALENDAR
