BEGIN:VCALENDAR
VERSION:2.0
PRODID:icalendar-ruby
CALSCALE:GREGORIAN
METHOD:PUBLISH
BEGIN:VEVENT
DTSTAMP:20260422T112041Z
UID:5-402546@arenaof.tithelysetup8.com
DTSTART:20260816T173000Z
DTEND:20260816T183000Z
CLASS:PUBLIC
CREATED:20260421T172800
DESCRIPTION:Sunday Worship
LAST-MODIFIED:20260421T172800
LOCATION:
SUMMARY:Sunday Worship
URL;VALUE=URI:https://arenaof.tithelysetup8.com/events/sunday-worship/2026-
 08-16
END:VEVENT
END:VCALENDAR
