BEGIN:VCALENDAR
VERSION:2.0
PRODID:icalendar-ruby
CALSCALE:GREGORIAN
METHOD:PUBLISH
BEGIN:VEVENT
DTSTAMP:20260422T171924Z
UID:5-403072@arenaof.tithelysetup8.com
DTSTART:20260913T173000Z
DTEND:20260913T183000Z
CLASS:PUBLIC
CREATED:20260422T072435
DESCRIPTION:Sunday Worship
LAST-MODIFIED:20260422T072435
LOCATION:
SUMMARY:Sunday Worship
URL;VALUE=URI:https://arenaof.tithelysetup8.com/events/sunday-worship/2026-
 09-13
END:VEVENT
END:VCALENDAR
