BEGIN:VCALENDAR
VERSION:2.0
PRODID:icalendar-ruby
CALSCALE:GREGORIAN
METHOD:PUBLISH
BEGIN:VEVENT
DTSTAMP:20260422T214741Z
UID:5-403597@arenaof.tithelysetup8.com
DTSTART:20261004T173000Z
DTEND:20261004T183000Z
CLASS:PUBLIC
CREATED:20260422T131457
DESCRIPTION:Sunday Worship
LAST-MODIFIED:20260422T131457
LOCATION:
SUMMARY:Sunday Worship
URL;VALUE=URI:https://arenaof.tithelysetup8.com/events/sunday-worship/2026-
 10-04
END:VEVENT
END:VCALENDAR
