BEGIN:VCALENDAR
VERSION:2.0
PRODID:icalendar-ruby
CALSCALE:GREGORIAN
METHOD:PUBLISH
BEGIN:VEVENT
DTSTAMP:20260422T232423Z
UID:5-403859@arenaof.tithelysetup8.com
DTSTART:20261011T173000Z
DTEND:20261011T183000Z
CLASS:PUBLIC
CREATED:20260422T160755
DESCRIPTION:Sunday Worship
LAST-MODIFIED:20260422T160755
LOCATION:
SUMMARY:Sunday Worship
URL;VALUE=URI:https://arenaof.tithelysetup8.com/events/sunday-worship/2026-
 10-11
END:VEVENT
END:VCALENDAR
