BEGIN:VCALENDAR
VERSION:2.0
PRODID:icalendar-ruby
CALSCALE:GREGORIAN
METHOD:PUBLISH
BEGIN:VEVENT
DTSTAMP:20260423T024111Z
UID:5-404122@arenaof.tithelysetup8.com
DTSTART:20261025T173000Z
DTEND:20261025T183000Z
CLASS:PUBLIC
CREATED:20260422T190042
DESCRIPTION:Sunday Worship
LAST-MODIFIED:20260422T190042
LOCATION:
SUMMARY:Sunday Worship
URL;VALUE=URI:https://arenaof.tithelysetup8.com/events/sunday-worship/2026-
 10-25
END:VEVENT
END:VCALENDAR
